BEGIN:VCALENDAR
VERSION:2.0
PRODID:-//Inspiration Christian Centre - ECPv6.10.1.1//NONSGML v1.0//EN
CALSCALE:GREGORIAN
METHOD:PUBLISH
X-WR-CALNAME:Inspiration Christian Centre
X-ORIGINAL-URL:https://inspirationng.org
X-WR-CALDESC:Events for Inspiration Christian Centre
REFRESH-INTERVAL;VALUE=DURATION:PT1H
X-Robots-Tag:noindex
X-PUBLISHED-TTL:PT1H
BEGIN:VTIMEZONE
TZID:UTC
BEGIN:STANDARD
TZOFFSETFROM:+0000
TZOFFSETTO:+0000
TZNAME:UTC
DTSTART:20170101T000000
END:STANDARD
END:VTIMEZONE
BEGIN:VEVENT
DTSTART;TZID=UTC:20171117T210000
DTEND;TZID=UTC:20171118T050000
DTSTAMP:20260422T220102
CREATED:20171016T104926Z
LAST-MODIFIED:20171016T104926Z
UID:4382-1510952400-1510981200@inspirationng.org
SUMMARY:Eagle's Nest (November 2017)
DESCRIPTION:But they that wait upon the Lord shall renew their strength; they shall mount up with wings as eagles; they shall run\, and not be weary; and they shall walk\, and not faint.
URL:https://inspirationng.org/event/eagles-nest-november-2017/
CATEGORIES:Community
ATTACH;FMTTYPE=image/jpeg:https://inspirationng.org/wp-content/uploads/2017/10/eagle-2.jpg
END:VEVENT
BEGIN:VEVENT
DTSTART;TZID=UTC:20171111T080000
DTEND;TZID=UTC:20171111T170000
DTSTAMP:20260422T220102
CREATED:20171016T103532Z
LAST-MODIFIED:20171016T103532Z
UID:4380-1510387200-1510419600@inspirationng.org
SUMMARY:Inspiration Train (November 2017)
DESCRIPTION:We are called by God to inspire and empower people to “impact their world”. This November 2017 edition of the Inspiration Train (one of our outreach initiatives) with be moving round Ilupeju\, Ojota\, Ketu\, Maryland and Ikeja suburbs of Lagos\, Nigeria. \nOur team of will be spreading the message of joy and impact to with music\, dance and inspirational messages. We will be taking hundreds of prayer requests from people and we know God is a God that answers prayers. If you leave in these areas\, look out for the train. We have a gift for everyone. \nImpact your world!
URL:https://inspirationng.org/event/inspiration-train-november-2017/
LOCATION:Ikeja\, Lagos\, Ojota\, Ketu\, Maryland\, Lagos\, Nigeria
CATEGORIES:Outreach
ATTACH;FMTTYPE=image/jpeg:https://inspirationng.org/wp-content/uploads/2017/10/IMG_20171001_155424.jpg
END:VEVENT
BEGIN:VEVENT
DTSTART;TZID=UTC:20171020T210000
DTEND;TZID=UTC:20171021T050000
DTSTAMP:20260422T220102
CREATED:20171016T102802Z
LAST-MODIFIED:20171016T102802Z
UID:4374-1508533200-1508562000@inspirationng.org
SUMMARY:Eagle's Nest (October 2017)
DESCRIPTION:They that wait upon the Lord\, shall renew their strength. They shall mount up with wings like eagles!
URL:https://inspirationng.org/event/eagles-nest-october-2017/
LOCATION:Lagos\, Nigeria
ATTACH;FMTTYPE=image/jpeg:https://inspirationng.org/wp-content/uploads/2017/10/eagle-2.jpg
END:VEVENT
BEGIN:VEVENT
DTSTART;TZID=UTC:20171015T083000
DTEND;TZID=UTC:20171015T220000
DTSTAMP:20260422T220102
CREATED:20170930T111341Z
LAST-MODIFIED:20170930T111341Z
UID:1386-1508056200-1508104800@inspirationng.org
SUMMARY:Dr Adebayo Speaks: Wisdom For Health
DESCRIPTION:“…when health is absent\, wisdom cannot reveal itself\, art cannot become manifest\, strength cannot fight\, wealth becomes useless\, and intelligence cannot be applied\, and money is lost.” Dr Adebayo will be speaking on things that may be killing you
URL:https://inspirationng.org/event/dr-adebayo-speaks-wisdom-for-health/
LOCATION:Global Impact Church\, Lekki\, Global Impact Church Lekki Centre\, Lekki\, Lagos\, Nigeria
CATEGORIES:Dr Adebayo Speaks
ATTACH;FMTTYPE=image/jpeg:https://inspirationng.org/wp-content/uploads/2015/05/2-e1506764637659.jpg
END:VEVENT
BEGIN:VEVENT
DTSTART;TZID=UTC:20171013T080000
DTEND;TZID=UTC:20171013T170000
DTSTAMP:20260422T220102
CREATED:20170930T111826Z
LAST-MODIFIED:20170930T111826Z
UID:1389-1507881600-1507914000@inspirationng.org
SUMMARY:Dr Adebayo Speaks - Workplace Health
DESCRIPTION:“…when health is absent\, wisdom cannot reveal itself\, art cannot become manifest\, strength cannot fight\, wealth becomes useless\, and intelligence cannot be applied\, and money is lost.” Productivity and health are intimately linked. Dr. Adebayo will be sharing insights on how to boost your productivity and promote workplace health.
URL:https://inspirationng.org/event/dr-adebayo-speaks-workplace-health/
LOCATION:City of David\, RCCG City of David\, Victoria Island\, Lagos\, Nigeria
CATEGORIES:Dr Adebayo Speaks
ATTACH;FMTTYPE=image/jpeg:https://inspirationng.org/wp-content/uploads/2015/05/2-e1506764637659.jpg
END:VEVENT
BEGIN:VEVENT
DTSTART;TZID=UTC:20171008T080000
DTEND;TZID=UTC:20171008T110000
DTSTAMP:20260422T220102
CREATED:20170930T110642Z
LAST-MODIFIED:20170930T115348Z
UID:1380-1507449600-1507460400@inspirationng.org
SUMMARY:Dr. Adebayo Speaks: Health Wise
DESCRIPTION:Health is not an accident. We can walk in divine health. Dr. Gbenga Adebayo will be sharing insights on how to raise healthy kids and walk in divine health.
URL:https://inspirationng.org/event/dr-adebayo-speaks-health-wise/
CATEGORIES:Dr Adebayo Speaks
ATTACH;FMTTYPE=image/jpeg:https://inspirationng.org/wp-content/uploads/2015/05/2-e1506764637659.jpg
END:VEVENT
BEGIN:VEVENT
DTSTART;TZID=UTC:20171001T130000
DTEND;TZID=UTC:20171001T180000
DTSTAMP:20260422T220102
CREATED:20170930T103934Z
LAST-MODIFIED:20170930T112044Z
UID:1368-1506862800-1506880800@inspirationng.org
SUMMARY:Independence Day Inspiration Train
DESCRIPTION:We are called by God to inspire and empower people to “impact their world”. This Independence Day 2017\, the Inspiration Train (one of our outreach initiatives) with be moving round Ogudu\, Ojota\, Ketu\, Maryland and Ikeja suburbs of Lagos\, Nigeria. \nOur team of will be spreading the message of joy and impact to with music\, dance and inspirational messages. We will be taking hundreds of prayer requests from people and we know God is a God that answers prayers. If you leave in these areas\, look out for the train. We have a gift for everyone. \nGod bless Nigeria!
URL:https://inspirationng.org/event/independence-day-inspiration-train/
CATEGORIES:Outreach
ATTACH;FMTTYPE=image/png:https://inspirationng.org/wp-content/uploads/2017/09/Flag-map-of-Nigeria.png
END:VEVENT
BEGIN:VEVENT
DTSTART;TZID=UTC:20171001T060000
DTEND;TZID=UTC:20171001T063000
DTSTAMP:20260422T220102
CREATED:20170930T105704Z
LAST-MODIFIED:20170930T105704Z
UID:1376-1506837600-1506839400@inspirationng.org
SUMMARY:The Impact Factor Video Devotional Launch
DESCRIPTION:We are a product of words. The whole of creation is sustained by the power of the spoken words by God Almighty. All we are today is a derivative of the words we have heard (and applied) hitherto. You can live a better more productive life: hearing and applying the right words will empower you to do this. \nGod has called Dr. Gbenga Adebayo to inspire people to impact their world. The Impact Factor video devotional is designed to empower you with insights and inspiration you need to “Impact Your World”. Watch it daily and your will win! Subscribe to our YouTube channel and never miss an episode \n 
URL:https://inspirationng.org/event/the-impact-factor-video-devotional-launch/
LOCATION:Online
CATEGORIES:Outreach
ATTACH;FMTTYPE=image/jpeg:https://inspirationng.org/wp-content/uploads/2017/09/Impact-factor-logo-in-progress-e1506768968153.jpeg
END:VEVENT
END:VCALENDAR